BEGIN:VCALENDAR
VERSION:2.0
PRODID:-//Fedorco - ECPv4.8.1//NONSGML v1.0//EN
CALSCALE:GREGORIAN
METHOD:PUBLISH
X-WR-CALNAME:Fedorco
X-ORIGINAL-URL:https://www.fedorco.com
X-WR-CALDESC:Eventos para Fedorco
BEGIN:VEVENT
DTSTART;TZID=UTC-3:20251212T210000
DTEND;TZID=UTC-3:20251212T230000
DTSTAMP:20260424T202554
CREATED:20251016T184026Z
LAST-MODIFIED:20251121T032720Z
UID:53792-1765573200-1765580400@www.fedorco.com
SUMMARY:adrián barilari
DESCRIPTION:Compartir enADRIAN BARILARI – CANCIONES DORADAS 2 \nAdrián Barilari\, miembro activo de la banda Rata Blanca\, emprende su gira nacional “Canciones Doradas 2” \, un espectáculo para toda la familia con  matices que nos aventuran a un viaje musical lleno de recuerdos y melodías que forman parte del inconsciente colectivo de varias generaciones. \nEn este marco\, el músico estará acompañado por su big band\,  interpretando y haciendo un recorrido por todas sus facetas musicales que pasan desde su disco de covers internacionales en español\, sus material solistas y los temas que lo catapultaron a los grandes escenarios y recorrer el mundo con Rata Blanca. \nUn espectáculo con una gran puesta en escena y una performance dinámica donde el público podrá interactuar y ser parte del show. \nEn el 2023 lanzó “Canciones Doradas 2” y continuó así la saga del primer disco grabado y editado en 2007. Forman parte de este álbum canciones y autores que marcaron el inconsciente colectivo de varias generaciones como Whitesnake\, Bryan Adams\, Phil Collins\, Kiss\, Queen\, Toto\, Gary Moore\, Europe entre otros. \n  \nINTEGRANTES \nBETO TOPINI – Bateria \nARIEL VERGARA –  Guitarra \nJAVIER BISCIONE – Bajo \nJUAN COLLADO – Teclados \nDEMIAN BAEZ –  Guitarra \nGUILLERMINA PELENDIR – Coros \n
URL:https://www.fedorco.com/evento/adrian-barilari/
LOCATION:Casino Magic\, Dr. Teodoro Luis Planas 4005\, NEUQUEN\, NEUQUEN\, 8300\, Argentina
CATEGORIES:HISTORIAL,Música en vivo,Rock
ATTACH;FMTTYPE=image/jpeg:https://www.fedorco.com/wp-content/uploads/2025/10/Barilari-insta-400x400.jpg
END:VEVENT
END:VCALENDAR