BEGIN:VCALENDAR
VERSION:2.0
PRODID:-//Fedorco - ECPv4.8.1//NONSGML v1.0//EN
CALSCALE:GREGORIAN
METHOD:PUBLISH
X-WR-CALNAME:Fedorco
X-ORIGINAL-URL:https://www.fedorco.com
X-WR-CALDESC:Eventos para Fedorco
BEGIN:VEVENT
DTSTART;TZID=UTC-3:20250927T210000
DTEND;TZID=UTC-3:20250927T230000
DTSTAMP:20260424T170951
CREATED:20250820T152919Z
LAST-MODIFIED:20250824T004519Z
UID:52870-1759006800-1759014000@www.fedorco.com
SUMMARY:alejandro lerner
DESCRIPTION:Compartir enALEJANDRO\nLERNER\nAlejandro Lerner es el compositor argentino de su generación más versionado del mundo. Su obra\n“Todo a Pulmón”\, ha sido interpretada por innumerables cantidad de artistas\, lo que la convierte en\nuna de sus obras más icónicas. A lo largo de sus más de 40 años de carrera\, sus canciones se\ntransformaron en himnos de habla hispana y lo convirtieron en uno de los compositores más\nreconocidos y premiados de Latinoamérica.\nComenzó su carrera como pianista a la temprana edad de 16 años\, acompañando a grandes artistas de\nrock nacional argentino como Gustavo Santaolalla y León Gieco\, entre otros. Desde entonces\, ha\nrecorrido escenarios de todo el mundo\, y realizado proyectos y colaboraciones con grandes artistas\nnacionales e internacionales. Entre los artistas más destacados con los que ha colaborado se\nencuentran Luis Miguel\, Carlos Santana\, Carole King\, Air Supply\, David Foster\, Andrea\nBocelli\, Mark Anthony\, Gino Vannelli\, Ricardo Montaner\, Mercedes Sosa\, Lionel Ritchie\,\nDominic Miller\, Pepe Aguilar\, José Feliciano\, Jenni Rivera\, Alejandra Guzmán\, Mijares\,\nMiguel Ríos\, Víctor Manuelle\, Los Angeles Azules\, Soledad Pastorutti y Sandra\nMihanovich\, entre muchos otros más.\nRealizó conciertos a dos pianos por el mundo junto al inolvidable Armando Manzanero.\nTrabajó como co-productor de artistas de la talla de Paul Anka\, Celine Dion\, Tom Jones\,\nJulio Iglesias\, Barry Gibb\, junto a productores e ingenieros mundialmente conocidos como\nHumberto Gatica\, Alan Parsons\, Geoff Emerick y Chris Lor-Alge. Compuso e interpretó\ncanciones para las películas Chicken Little y High School Musical de Disney Y\, además\,\ncompuso los himnos para la cadena Radio Disney de Hispanoamérica\nHa recibido un sinfín de premios y reconocimientos\, entre ellos\, el Latin Grammy a la\nExcelencia Musical 2024\, 8 nominaciones a los Grammy Latinos\, 4 Martín Fierro\, 3\nPremios Konex\, 7 Premios Gardel\, como así también recibió dos distinciones de la Sociedad de\nAutores y Compositores Americanos como el songwriter más exitoso de las radios \nlatinas de USA. Fue designado Embajador de la Paz por Mil Milenios de Paz\, movimiento que\ntrabaja por la paz mundial reconocido y avalado por la UNESCO. Recibió la Llave de distintas\nciudades\, entre ellas junto a Armando Manzanero la de la Ciudad de Bucaramanga\n(Colombia) como visitante ilustre.\nEn los últimos años Alejandro ha realizado colaboraciones con artistas de las nuevas\ngeneraciones\, relanzando grandes clásicos de su carrera. Entre estas colaboraciones se encuentran\nuna reversión de “Después de Ti” junto a Rusherking \, “Amarte Así”con MYA\, y “No hace falta\nque lo digas” con Mau y Ricky\nDurante el 2023 lanzó “A tu lado”. Esta hermosa canción está dedicada al amor universal\, y es un\nhomenaje a su gran amigo y maestro Armando Manzanero.\nA comienzos del 2024 presentó “Mi Argentina”\, canción nacida de la profunda necesidad de abrazar\nal pueblo argentino con su música\, reﬂejando sin ﬁltros su mirada sobre el momento actual de su\npaís sin dejar de alentar a que la esperanza y la fortaleza sean la brújula para el futuro.\nDurante el 2024\, con su gira Vuelven los lentos Tour\, Alejandro recorrió los escenarios\nargentinos de La gira internacional Grandes Éxitos contó con presentaciones en Estados\nUnidos\, Chile y una gira por 13 ciudades de España: Madrid\, Barcelona\, Sevilla\, Valencia\,\nBilbao\, Gijón\, Vigo\, Tarragona\, Alicante\, Málaga\, Sant Feliu\, Tenerife y Gran Canaria.\nAdemás\, ese mismo año\, como festejo al Latin Grammy a la Excelencia Musical\, Alejandro realizó\nuna serie de conciertos en el exterior\, con presentaciones en Estados Unidos\, Chile y una gira por\n13 ciudades de España. En Argentina\, continúa recorriendo el país con &quot;Vuelven los lentos tour\n2024”\, una exitosa gira totalmente autogestionada con la que recorrió los escenarios de San\nLuis\, Santiago del Estero\, Córdoba\, Santa Fe\, Corrientes\, Provincia de Buenos Aires\,\nCABA\, La Pampa\, Jujuy\, Catamarca\, Salta\, Misiones\, Chaco\, Tucumán\, Formosa y La\nRioja\, colmando cada una de las presentaciones\, y teniendo que agregar funciones\nconstantemente. Además\, realizó 8 shows de Encuentros Cercanos en La Trastienda de\nBuenos Aires\, con entradas totalmente agotadas en cada caso. También como parte de la\ncelebración\, junto a Los Angeles Azules\, quienes también serán galardonados con el Latin\nGrammy a la Excelencia Musical\, sacaron recientemente una versión imperdible del clásico\n“Volver a empezar”.\nCon su gira Grandes Éxitos\, en 2023 realizó más de 80 shows en escenarios de Tel Aviv\,\nMéxico\, España\, Colombia\, Chile y Argentina . Actualmente se encuentra realizando la gira\n“Vuelven los lentos tour 2024”\, con la que viene agotando entradas en cada ciudad de la\nArgentina en la que se presenta. Además\, la gira se extenderá al exterior con presentaciones en\ndistintos países de Europa\, así como también en Sudamérica\, EE.UU y México. \n
URL:https://www.fedorco.com/evento/alejandro-lerner/
LOCATION:Teatro Cine Español\, Av. Argentina 235\, NEUQUEN\, NEUQUEN\, 8300\, Argentina
CATEGORIES:HISTORIAL,Música en vivo,Rock
ATTACH;FMTTYPE=image/jpeg:https://www.fedorco.com/wp-content/uploads/2025/08/lerner-insta-400x400.jpg
END:VEVENT
END:VCALENDAR