BEGIN:VCALENDAR
VERSION:2.0
PRODID:-//Fedorco - ECPv4.8.1//NONSGML v1.0//EN
CALSCALE:GREGORIAN
METHOD:PUBLISH
X-WR-CALNAME:Fedorco
X-ORIGINAL-URL:https://www.fedorco.com
X-WR-CALDESC:Eventos para Fedorco
BEGIN:VEVENT
DTSTART;TZID=UTC-3:20210926T210000
DTEND;TZID=UTC-3:20210926T223000
DTSTAMP:20260421T190220
CREATED:20210823T225248Z
LAST-MODIFIED:20210927T143630Z
UID:14566-1632690000-1632695400@www.fedorco.com
SUMMARY:Buena Petroka
DESCRIPTION:Compartir enEl Marito un Standapero de la zona Patagónica que luego de haber realizado con gran éxito sus primeros streamings ahora desembarca en forma presencial en los teatros \, con el fin acercarse al público que tanto cariño le brinda por las redes en sus videos de humor.\nUn espectáculo  Apto para todo público\, con monólogos desopilantes que harán descostillar de risa a los presentes\, el mismo se verá interrumpido en ocasiones por 2 personajes muy particulares\, Elbio Lero un guitarrista muy particular que con sus conocimientos Artísticos será de gran importancia a la cultura musical\, siempre y cuando se lo mire con humor\, y La estrella de la noche\, PeTroka que con todo su humor y ostentación querrá acaparar  toda la atención en este nuevo espectáculo de El Marito\, El Petrolero quiere hacer sus primeras presentaciones en la zona Patagónica antes su  gran lanzamiento en el Luna Park y Madison Square Garden\, “Buena… PeTroka”.\n
URL:https://www.fedorco.com/evento/buena-petroka/
LOCATION:Casino Magic\, Dr. Teodoro Luis Planas 4005\, NEUQUEN\, NEUQUEN\, 8300\, Argentina
CATEGORIES:Comedia,HISTORIAL,Humor,Stand up,teatro
ATTACH;FMTTYPE=image/jpeg:https://www.fedorco.com/wp-content/uploads/2021/08/Petroka-EU-400xxx400.jpg
END:VEVENT
END:VCALENDAR