BEGIN:VCALENDAR
VERSION:2.0
PRODID:-//Fedorco - ECPv4.8.1//NONSGML v1.0//EN
CALSCALE:GREGORIAN
METHOD:PUBLISH
X-WR-CALNAME:Fedorco
X-ORIGINAL-URL:https://www.fedorco.com
X-WR-CALDESC:Eventos para Fedorco
BEGIN:VEVENT
DTSTART;TZID=UTC-3:20211002T210000
DTEND;TZID=UTC-3:20211002T223000
DTSTAMP:20260421T155302
CREATED:20210825T033241Z
LAST-MODIFIED:20210825T180328Z
UID:14607-1633208400-1633213800@www.fedorco.com
SUMMARY:Divino Divorcio
DESCRIPTION:Compartir en
URL:https://www.fedorco.com/evento/divino-divorcio/
LOCATION:Casino Magic\, Dr. Teodoro Luis Planas 4005\, NEUQUEN\, NEUQUEN\, 8300\, Argentina
CATEGORIES:Comedia,Humor,Stand up,teatro
ATTACH;FMTTYPE=image/jpeg:https://www.fedorco.com/wp-content/uploads/2021/08/Divino-Divorcio-EU-400x400.jpg
END:VEVENT
END:VCALENDAR