BEGIN:VCALENDAR
VERSION:2.0
PRODID:-//Fedorco - ECPv4.8.1//NONSGML v1.0//EN
CALSCALE:GREGORIAN
METHOD:PUBLISH
X-WR-CALNAME:Fedorco
X-ORIGINAL-URL:https://www.fedorco.com
X-WR-CALDESC:Eventos para Fedorco
BEGIN:VEVENT
DTSTART;TZID=UTC-3:20240914T210000
DTEND;TZID=UTC-3:20240914T230000
DTSTAMP:20260424T033807
CREATED:20240722T154514Z
LAST-MODIFIED:20240723T155357Z
UID:45235-1726347600-1726354800@www.fedorco.com
SUMMARY:EL AMATEUR
DESCRIPTION:Compartir enEL AMATEUR \nde Mauricio Dayub \n  \nDirección: Luis «Indio» Romero \nActúan: Mauricio Dayub y Gustavo Luppi \n  \n“El amateur\, segunda vuelta” es la obra emblemática de Mauricio Dayub. \nEl Pájaro y Lopecito\, sus protagonistas\, logran encontrar un objetivo común y arriesgan \ntodo lo que tienen para lograrlo. Juntos producen un milagro: que el sueño de uno se \ntransforme en el sueño del otro. \n  \nLa amistad\, la pasión y dar la vida sin esperar nada a cambio. Esa es la esencia de El \namateur. \n  \nActores: Mauricio Dayub y Gustavo Luppi \nDirección: Luis «Indio» Romero \nAutor: Mauricio Dayub \nMúsica: Jaime Roos \nEscenografía y vestuario: Graciela Galán \nDiseño de iluminación: Matías Sendón \nFotografía: Marcos López \n  \nDirector asistente: Paolo Sambrini \nAsistente de escenografía y vestuario: Mariela Solari \nOperador de sonido: Franco Planel. \nMaquinaria: Cristian Núñez \nRealización de vestuario: Lidia Benítez \n  \nRealización de escenografía: Gabriela Kohatus – Mariano Sivak – Oscar Feliciano Marín \n  \nCoreografía: Edgardo “Negro” Millán \nPelucas: Roberto Mohr \n  \nDiseño gráfico: Julieta Garione / Pablo Bologna \nPrensa y difusión: Carolina Alfonso \nProducción ejecutiva: Mica Labanca / Francisco Hails \nProducción general: Mauricio Dayub \n
URL:https://www.fedorco.com/evento/el-amateur/
LOCATION:Teatro Cine Español\, Av. Argentina 235\, NEUQUEN\, NEUQUEN\, 8300\, Argentina
CATEGORIES:Comedia,HISTORIAL,teatro
ATTACH;FMTTYPE=image/jpeg:https://www.fedorco.com/wp-content/uploads/2024/07/amateur-insta2-400X400.jpg
END:VEVENT
END:VCALENDAR