BEGIN:VCALENDAR
VERSION:2.0
PRODID:-//Fedorco - ECPv4.8.1//NONSGML v1.0//EN
CALSCALE:GREGORIAN
METHOD:PUBLISH
X-WR-CALNAME:Fedorco
X-ORIGINAL-URL:https://www.fedorco.com
X-WR-CALDESC:Eventos para Fedorco
BEGIN:VEVENT
DTSTART;TZID=UTC-3:20210814T210000
DTEND;TZID=UTC-3:20210814T230000
DTSTAMP:20260422T000152
CREATED:20210727T172646Z
LAST-MODIFIED:20210820T214906Z
UID:13956-1628974800-1628982000@www.fedorco.com
SUMMARY:El Plan de la Mariposa - Estado de Enlace
DESCRIPTION:Compartir enDESCARGA TU PROGRAMA DE MANO http://t.ly/mzy8\nEl Plan de la Mariposa – Gira «Estado de Enlace» en Interior\nGIRA PRESENTACIÓN\n“ESTADO DE ENLACE”\n14 DE AGOSTO\nCASINO MAGIC\nNEUQUÉN \nLuego de actuar por primera vez en el Teatro de Buenos Aires con entradas agotadas en julio y sumar una nueva función para el 17 de septiembre\, El Plan de la Mariposa vuelve a Neuquén para presentar su nuevo disco “Estado de Enlace”. Será el sábado 14 de agosto en el CASINO MAGIC\, con todos los protocolos sanitarios correspondientes.\nEste 2021 ya se presentaron en Mar del Plata (tres shows)\, Necochea\, Rosario (dos shows)\, Santa Fe\, Paraná\, Río Cuarto\, Córdoba y La Plata (tres shows agotados en el Coliseo Podestá).\nRecientemente el septeto fundado por los cinco hermanos Andersen acaba de realizar el lanzamiento de “Enlace en Estado Vivo”\, una sesión y álbum doble en vivo del registro de su singular show por streaming realizado en noviembre pasado\, en el marco de una puesta escenográfica distinta\, especialmente diseñada para esta propuesta\, donde el arte en todas sus variantes acompañó la fuerza de las canciones afirmando la esencia creativa del proyecto.\n“Enlace en Estado Vivo” son 22 canciones\, divididas en dos discos de 11 temas. La primera parte focaliza en las canciones más luminosas y reconocidas del Plan mientras que en la segunda se escucha el lado más psicodélico\, incluyendo las canciones “Agradecimiento (La danza de la realidad)” y “La Ofrenda”\, grabadas en la experiencia colectiva “Demos en Aislamiento”\, realizada en cuarentena. Grabado y mezclado por Santiago McCarthy\, el show completo está disponible en dos partes en su canal oficial de Youtube.\nEn este trabajo queda documentado el poder y la energía de la banda tocando en vivo\, la esencia de ese espíritu tan característico de su repertorio que se siente en sus recitales y que los distingue en cada una de sus presentaciones. A lo largo de este álbum doble interpretan toda su última obra “Estado de Enlace” sumada a reversiones de una elegida selección de canciones de sus discos anteriores.\n“Estado de Enlace” fue grabado y mezclado por Facundo Rodriguez en los estudios Romaphonic\, Quark y Savia\, y masterizado por Daniel Ovie\, con la producción artística a cargo de los hermanos Máximo\, Sebastián y Valentín Andersen. La edición especial de este último disco en vinilo + CD con tres canciones extras que no están en el formato digital ya se encuentra a la venta en 300tienda.com\nEn Estado de Enlace\, El Plan continúa con su forma integral y autogestiva de realizar su arte\, participando activamente en todos los aspectos de la realización. El arte visual del disco fue realizado por Santiago Andersen\, violinista del grupo\, que realizó pinturas para completar el universo estético de la obra.\nEL PLAN DE LA MARIPOSA SON Sebastián Andersen: voz / Camila Andersen: voz./ Valentín Andersen: guitarras y voz / Máximo Andersen: teclado / Santiago Andersen: violín / Andrés Nör: bajo / Julián Ropero: batería. \nRedes\nYoutube: http://youtube.com/elplandelamariposa\nSpotify: http://bit.ly/ElPlandelaMariposaSP\nFacebook: https://www.facebook.com/elplandelamariposa\nInstagram https://www.instagram.com/elplandelamariposa/\nTwitter https://twitter.com/PlandlMariposa\nSitio web: https://www.elplandelamariposa.com.ar/ \nPrograma de Mano \nhttps://drive.google.com/drive/folders/1UrjL7xPKsaMvY2NFyAt46yK2oTaXJODO?usp=sharing \n \n  \n  \n \n
URL:https://www.fedorco.com/evento/el-plan-de-la-mariposa-estado-de-enlace/
LOCATION:Casino Magic\, Dr. Teodoro Luis Planas 4005\, NEUQUEN\, NEUQUEN\, 8300\, Argentina
CATEGORIES:HISTORIAL,Música en vivo,Rock
ATTACH;FMTTYPE=image/jpeg:https://www.fedorco.com/wp-content/uploads/2021/07/400-x400.jpg
END:VEVENT
END:VCALENDAR