BEGIN:VCALENDAR
VERSION:2.0
PRODID:-//Fedorco - ECPv4.8.1//NONSGML v1.0//EN
CALSCALE:GREGORIAN
METHOD:PUBLISH
X-WR-CALNAME:Fedorco
X-ORIGINAL-URL:https://www.fedorco.com
X-WR-CALDESC:Eventos para Fedorco
BEGIN:VEVENT
DTSTART;TZID=UTC-3:20250815T210000
DTEND;TZID=UTC-3:20250818T230000
DTSTAMP:20260424T202512
CREATED:20250626T230957Z
LAST-MODIFIED:20250818T004101Z
UID:51916-1755291600-1755558000@www.fedorco.com
SUMMARY:ELENA ROGER
DESCRIPTION:Compartir enELENA ROGER\nEN CONCIERTO \nElena Roger anuncia su tour 2025 por\nArgentina\, Chile\, España y Uruguay \nEn cada presentación\, la reconocida artista\, hará un recorrido por los éxitos que la consagraron como una de las máximas referentes del teatro musical y una de las grandes voces de la música popular argentina. En esta serie de conciertos estará acompañada en el piano por Nicolás Guerschberg. \nUna oportunidad única para disfrutar del elegante repertorio de una artista multifacética en una noche íntima e inolvidable. \nCon una profunda y sutil calidad interpretativa\, Elena Roger\, invita al público a sumergirse en un emotivo viaje musical por su ecléctico repertorio acompañada por el poderoso y delicado sonido del piano a cargo del maestro Nicolás Guerschberg. \nUn show que recorrerá bellas canciones y relatos llenos de historia y emoción:\nNo llores por mi Argentina (Don’t cry for me Argentina)\, Je ne regrette rien\, La vie en rose\, Un anno d’ amore\, Loving you\, Balada para un loco\, entre otras. \nELENA ROGER artista reconocida y premiada tanto en la Argentina como en el exterior.\nProtagonizó obras emblemáticas de la comedia musical en Londres\, Nueva York\, Buenos Aires y Madrid. Evita\, Piaf\, Passion y Mina\, che cosa sei?!? son algunos de sus trabajos más destacados y por los cuales obtuvo un gran reconocimiento del público y la prensa.\nTrabajó a nivel internacional con grandes directores como Jamie Lloyd\, Jonathan Butterell y Michael Grandage\, entre otros. \nCantante – Elena Roger\nPianista – Nicolás Guerschberg\nPRODUCEN: ADRIÁN SUAR + PRELUDIO PRODUCCIONES \n
URL:https://www.fedorco.com/evento/elena-roger/
LOCATION:Teatro Cine Español\, Av. Argentina 235\, NEUQUEN\, NEUQUEN\, 8300\, Argentina
CATEGORIES:HISTORIAL,Música en vivo,Rock
ATTACH;FMTTYPE=image/jpeg:https://www.fedorco.com/wp-content/uploads/2025/06/roger-insta-400x400.jpg
END:VEVENT
END:VCALENDAR