BEGIN:VCALENDAR
VERSION:2.0
PRODID:-//Fedorco - ECPv4.8.1//NONSGML v1.0//EN
CALSCALE:GREGORIAN
METHOD:PUBLISH
X-WR-CALNAME:Fedorco
X-ORIGINAL-URL:https://www.fedorco.com
X-WR-CALDESC:Eventos para Fedorco
BEGIN:VEVENT
DTSTART;TZID=UTC-3:20251025T210000
DTEND;TZID=UTC-3:20251025T230000
DTSTAMP:20260424T170104
CREATED:20250711T224729Z
LAST-MODIFIED:20250916T155045Z
UID:52185-1761426000-1761433200@www.fedorco.com
SUMMARY:fede cyrulnik
DESCRIPTION:Compartir enFEDE CYRULNIK |  Stand Up Comedy Show 2025\nFede Cyrulnik llega con su exitoso unipersonal renovado!\nSignos zodiacales\, stand up y mucho humor en un show cargado de recuerdos y vivencias.\n¿Cómo la pasaron los signos estos últimos años?\nPreguntas múltiples que encuentran respuestas al estilo 100% Fede Cyrulnik\nHumor en una combinación letal que sólo él puede manejar!\nMás de 60.000 espectadores ya lo aplaudieron de pié!\nFede aborda los signos zodiacales\, las vivencias personales\, así como problemáticas\ncomunes que son observadas desde los ciudadanos de a pie\, este 2024 despliega un guión\ntotalmente actualizado para seguir sacando sonoras carcajadas al público\, así como sus\ntradicionales improvisaciones con la gente\, con sus signos\, con las parejas…Traigan sus\nanécdotas y sus ganas de participar…\nActor\, comediante\, improvisador e influencer\, Fede Cyrulnik saltó a la fama en 2003 tras\nescribir y actuar para Disney Channel\, así como en Comedy Central\, al tiempo de ser\nconductor de los canales argentinos 7 y Encuentro\, además de grabar tres temporadas\npara la cadena mexicana Televisa en paralelo a su protagonismo en más de 50 comerciales\nalrededor del mundo.\nEn 2011\, luego de varios años de improvisación teatral\, Fede Cyrulnik comenzó su\nformación en el stand up con Fernando Sanjiao\, y en el American Comedy Institute de\nNueva York\, para estrenar “Flashback”\, “Animal” y “Típico Pitbull”\, exitosos montajes que\njunto con el fichaje de Amazon Prime Video para grabar en 2022 su unipersonal “Signos”\, lo\nhan alzado como uno de los comediantes con más proyección internacional de los últimos\naños. \n
URL:https://www.fedorco.com/evento/fede-cyrulnik-3/
LOCATION:Casino Magic\, Dr. Teodoro Luis Planas 4005\, NEUQUEN\, NEUQUEN\, 8300\, Argentina
CATEGORIES:Comedia,HISTORIAL,Stand up,teatro
ATTACH;FMTTYPE=image/jpeg:https://www.fedorco.com/wp-content/uploads/2025/08/cyrulnik-insta-400x4000.jpg
END:VEVENT
END:VCALENDAR