BEGIN:VCALENDAR
VERSION:2.0
PRODID:-//Fedorco - ECPv4.8.1//NONSGML v1.0//EN
CALSCALE:GREGORIAN
METHOD:PUBLISH
X-WR-CALNAME:Fedorco
X-ORIGINAL-URL:https://www.fedorco.com
X-WR-CALDESC:Eventos para Fedorco
BEGIN:VEVENT
DTSTART;TZID=UTC-3:20251019T210000
DTEND;TZID=UTC-3:20251019T230000
DTSTAMP:20260424T202707
CREATED:20250822T170119Z
LAST-MODIFIED:20251015T142533Z
UID:52893-1760907600-1760914800@www.fedorco.com
SUMMARY:las cosas maravillosas
DESCRIPTION:Compartir en“LAS COSAS MARAVILLOSAS”\nCON NATALIE PÉREZ\n\nDIRECCIÓN: MEY SCÁPOLA\n\nEl lunes 7 de abril comienza una nueva etapa de esta exitosa experiencia teatral que lleva más de 3 años en cartel!\nEn esta oportunidad NATALIE PÉREZ será quien ocupe el rol de la narradora del espectáculo.\n\n“Una lista de todas las cosas maravillosas que hay en el mundo. Todo aquello por lo que vale la pena vivir”.\nEsta es la misión del personaje que protagoniza la historia. Con un gran sentido del humor y una historia conmovedora\,” «Las cosas maravillosas” es\, ante todo\, una invitación a construir colectivamente una mirada luminosa de la vida.\n\nLAS COSAS MARAVILLOSAS\n\n“Las cosas maravillosas” se estrenó en 2022 con Peter Lanzani como narrador de la primera versión argentina bajo la dirección de Dalia Elnecavé. Rápidamente se agotaron todas las entradas de todas las presentaciones y se convirtió en un suceso. Luego continuó el éxito con las versiones de Lali González\, Franco Masini\, Andy Kusnetzoff\, Cande Vetrano\, Victorio D’Alessandro\, Florencia Otero y Natalie Pérez bajo la dirección de Mey Scápola.\nAdemás\, «Las cosas maravillosas» viene viajando por la Argentina y países limítrofes con la misión de llevar esta experiencia a más espectadores.\n\nLAS COSAS MARAVILLOSAS\nDramaturgia: Duncan Macmillan y Jonny Donahoe\nTraducción y versión: Pablo Gershanik\nActriz Natali Pérez\n\nInstagram: @lascosasmaravillosasteatro\n
URL:https://www.fedorco.com/evento/las-cosas-maravillosas/
LOCATION:Teatro Cine Español\, Av. Argentina 235\, NEUQUEN\, NEUQUEN\, 8300\, Argentina
CATEGORIES:HISTORIAL,Humor,Stand up,teatro
ATTACH;FMTTYPE=image/jpeg:https://www.fedorco.com/wp-content/uploads/2025/08/natalie-pérez-insta-400x400.jpg
END:VEVENT
END:VCALENDAR