BEGIN:VCALENDAR
VERSION:2.0
PRODID:-//Fedorco - ECPv4.8.1//NONSGML v1.0//EN
CALSCALE:GREGORIAN
METHOD:PUBLISH
X-WR-CALNAME:Fedorco
X-ORIGINAL-URL:https://www.fedorco.com
X-WR-CALDESC:Eventos para Fedorco
BEGIN:VEVENT
DTSTART;TZID=UTC-3:20260604T210000
DTEND;TZID=UTC-3:20260604T230000
DTSTAMP:20260420T083638
CREATED:20260227T192133Z
LAST-MODIFIED:20260227T192133Z
UID:55692-1780606800-1780614000@www.fedorco.com
SUMMARY:Lic. Leo Maiello - Yo Sin Culpa
DESCRIPTION:Compartir en‘YO\, sin culpa’ es una charla en vivo que mezcla psicología\, música\, humor y mucha reflexión.\nA través de historias reales y patrones que repetimos\, el espectáculo desarma creencias\, expone mecanismos cotidianos y revela cómo aprendimos a culparnos por amar\, por desear\, por equivocarnos\, por elegir… incluso por existir.\nLa música le da un complemento interesante que acompaña y le da un matiz personal al encuentro.\n«YO\, sin culpa» no es una clase\, no es un show de stand up\, no es teatro tradicional: es una conversación honesta en tiempo real\, un espacio seguro donde el público se reconoce\, se conmueve y\, tal vez\, sale un poco más liviano.\nUna invitación a dejar de castigarnos por ser quienes somos..\n
URL:https://www.fedorco.com/evento/lic-leo-maiello-yo-sin-culpa/
LOCATION:Casino Magic\, Dr. Teodoro Luis Planas 4005\, NEUQUEN\, NEUQUEN\, 8300\, Argentina
CATEGORIES:HISTORIAL,Seminario,Stand up
ATTACH;FMTTYPE=image/jpeg:https://www.fedorco.com/wp-content/uploads/2026/02/maiello-insta-400x400-01.jpg
END:VEVENT
END:VCALENDAR