BEGIN:VCALENDAR
VERSION:2.0
PRODID:-//Fedorco - ECPv4.8.1//NONSGML v1.0//EN
CALSCALE:GREGORIAN
METHOD:PUBLISH
X-WR-CALNAME:Fedorco
X-ORIGINAL-URL:https://www.fedorco.com
X-WR-CALDESC:Eventos para Fedorco
BEGIN:VEVENT
DTSTART;TZID=UTC-3:20211015T210000
DTEND;TZID=UTC-3:20211015T230000
DTSTAMP:20260421T141527
CREATED:20210924T185821Z
LAST-MODIFIED:20211018T182958Z
UID:15465-1634331600-1634338800@www.fedorco.com
SUMMARY:Música para Volar Soda Stereo
DESCRIPTION:Compartir enMúsica para  Volar \, un   homenaje  a  la  obra  de Gustavo Cerati con  Soda  Stereo. \n  \nSerá  un   recorrido en  el cual   se  interpretará\, en forma íntegra\, el disco “Comfort  y  música para   volar”   MTV Unplugged de Soda   Stereo\, con   los arreglos de cuerdas originales y  una   puesta que combina los momentos musicales  con   proyecciones  sincronizadas de  la   filmografía de  Stanley Kubrick. \n  \nLa propuesta es disfrutar del disco interpretado en vivo\, dejándose  llevar por   un   relato  paralelo  compuesto  de  imágenes  sincronizadas  de  la filmografía de Kubrick\,  que irán  estableciendo una  suerte de diálogo con  el clima emocional de cada fragmento musical. \n  \nLas entradas se encuentran a  la  venta en la  boletería del Casino y  por sistema web en eventpass.com.ar \n  \nBiografía \nMúsica para Volar se formó en 2012\,   para producir un  espectáculo temático  en el  cual se tocó íntegramente  el  disco  “Comfort  y música para  volar”\,  material  grabado  en  vivo   por   Soda  Stereo  en  1996\, combinando las  canciones con  imágenes de la filmografía del cineasta Stanley Kubrick. \nLuego de numerosas presentaciones en salas de la Ciudad de Rosario\, el grupo Música para Volar\, estrenó en agosto del 2015  el homenaje sinfónico a Gustavo Cerati \, “Cerati Sinfónico”\, espectáculo en el cual  un ensamble de 50  músicos interpretaron canciones de toda la  carrera del cantante y compositor\, desde sus  comienzos con  Soda Stereo hasta los últimos discos de su  etapa solista\, las entradas se agotaron en solo  tres días.  En noviembre del mismo año realizaron otras dos  presentaciones  el Teatro  El   Círculo    de  Rosario\,  ambas  agotadas  con    semanas  de anticipación. \nEn  el  2016\,  la  banda vuelve  a presentarse en el Anfiteatro Municipal de  Rosario en donde cinco  mil personas pudieron disfrutar del show al aire libre. \nEn junio  la banda comienza con  su gira nacional \, cuatro conciertos en el Teatro 1° de Mayo  de Santa Fe\, dos  shows con  entradas agotadas en el Teatro Ciudad de las Artes de Córdoba y uno en la Plaza  de la Música\, el Domo del  Centenario  en Resistencia\,  el  Teatro Coliseo  de Lomas  de Zamora\, el Verdi de Villa María\, el Radio  City de Mar del Plata\, Don  Bosco  de Bahía  Blanca\, dos  funciones en el Teatro Independencia de Mendoza y  finalmente  el  mítico  Teatro  Coliseo  de  Buenos Aires\, donde fueron ovacionados por  más de mil quinientas personas. \nA comienzos  de 2017\,   el  grupo realizó  una presentación  de Cerati Sinfónico en el Teatro Radio  City de Mar del Plata y luego el espectáculo basado en el disco Unplugged en el Teatro Colón  de la misma localidad y con  entradas agotadas. Ese mismo año \, ambas propuestas continuaron de gira  por  Santa  Fe\, San  Genaro\, Asunción\, Reconquista\, Resistencia\, Tucumán\, Necochea \,Carlos   Paz\,  Arequito\, San  Nicolás \, Victoria\, Villa María\, San Juan \, Corrientes\, Paraná\, Buenos Aires y Córdoba. \n  \nVIDEOS https://www.youtube.com/watch?v=x3tr5_uWF78 https://www.youtube.com/watch?v=4LJPbUiLn_U https://www.youtube.com/watch?v=UUtWd_LiWmk \nMAS INFO \nhttp://facebook.com/mpvolar http://instagram.com/mpvolar http://twitter.com/mpvolar \n
URL:https://www.fedorco.com/evento/musica-para-volar-soda-stereo/
LOCATION:Casino Magic\, Dr. Teodoro Luis Planas 4005\, NEUQUEN\, NEUQUEN\, 8300\, Argentina
CATEGORIES:HISTORIAL,Música en vivo,Rock,teatro
ATTACH;FMTTYPE=image/jpeg:https://www.fedorco.com/wp-content/uploads/2021/09/MPV-400x400.jpg
END:VEVENT
END:VCALENDAR