BEGIN:VCALENDAR
VERSION:2.0
PRODID:-//Fedorco - ECPv4.8.1//NONSGML v1.0//EN
CALSCALE:GREGORIAN
METHOD:PUBLISH
X-WR-CALNAME:Fedorco
X-ORIGINAL-URL:https://www.fedorco.com
X-WR-CALDESC:Eventos para Fedorco
BEGIN:VEVENT
DTSTART;TZID=UTC-3:20210911T210000
DTEND;TZID=UTC-3:20210911T223000
DTSTAMP:20260421T175123
CREATED:20210811T213049Z
LAST-MODIFIED:20210913T134430Z
UID:14282-1631394000-1631399400@www.fedorco.com
SUMMARY:Pablo Picotto
DESCRIPTION:Compartir enPablo Picotto comenzó a dedicarse a la comedia en el 2001\, estudió formación integral de teatro y empezó con obras cortas y monólogos de personajes en café concert. A partir del 2006 se adentró en el género stand up e investigó la implementación natural de los recursos teatrales al género\, trabajó en los más diversos ámbitos de la escena Argentina incluyendo cine\, teatro\, radio y tv. \nEstuvo en la selección de comediantes de Comedy Central durante el 2016 y 2017\, ha sido el docente de algunos destacados exponentes de la nueva generación de humoristas y dirigió diversos espectáculos entre ellos “Los otros” de Magalí Tajes\, “Mellera Lauriente en el Luna Park”\, “Flashando Secuencia” de Fran Gómez y Nacho Saralegui; y “Quedate conmigo\, Lucas” obra escrita por Hernán Casciari e interpretada por la dupla Mellera Lauriente. Como coach o colaborador trabajó en los especiales de Netflix de Radagast y Luciano Mellera\, entre otros proyectos. \nDurante el 2019 fue parte del equipo del programa “Detrás de lo que vemos”\, emitido por Crónica TV bajo la conducción de Claudio Villarruel y Bernarda Llorente\, con su columna de opinión llevada a cabo por su personaje Osmar Amarilla. \nA principios del 2020 llevó su unipersonal “Picadito de Picotto” de gira por las principales ciudades de la costa atlántica\, consiguiendo así una nominación a los premios Estrella de Mar 2020 como “Mejor espectáculo de Stand Up”. \nActualmente podés encontrar a Pablo generando contenidos en redes sociales para sus más de 260 mil seguidores y entreteniendo al público desde su canal de YouTube. \nPrograma de Mano \nhttps://drive.google.com/drive/folders/1UrjL7xPKsaMvY2NFyAt46yK2oTaXJODO?usp=sharing \n
URL:https://www.fedorco.com/evento/pablo-picotto/
LOCATION:Casino Magic\, Dr. Teodoro Luis Planas 4005\, NEUQUEN\, NEUQUEN\, 8300\, Argentina
CATEGORIES:Comedia,HISTORIAL,Humor,Stand up,teatro
ATTACH;FMTTYPE=image/jpeg:https://www.fedorco.com/wp-content/uploads/2021/08/Pablo-Picotto-EU-400x400-01.jpg
END:VEVENT
END:VCALENDAR