BEGIN:VCALENDAR
VERSION:2.0
PRODID:-//Fedorco - ECPv4.8.1//NONSGML v1.0//EN
CALSCALE:GREGORIAN
METHOD:PUBLISH
X-WR-CALNAME:Fedorco
X-ORIGINAL-URL:https://www.fedorco.com
X-WR-CALDESC:Eventos para Fedorco
BEGIN:VEVENT
DTSTART;TZID=UTC-3:20210924T180000
DTEND;TZID=UTC-3:20210924T193000
DTSTAMP:20260421T154749
CREATED:20210825T191619Z
LAST-MODIFIED:20210927T143623Z
UID:14639-1632506400-1632511800@www.fedorco.com
SUMMARY:Piñon Fijo
DESCRIPTION:Compartir enEn estos tiempos de reapertura… Piñón Fijo vuelve al ruedo! \nVuelve a las giras y de la mano de los mismos amigos con los cuales llegó por primera vez a nuestra provincia hace 20 años\, se anima a intentar\, a creer\, a crear y reincidir en lo que mejor sabe hacer: divertir y emocionar a las familias. \nCon 32 años de trayectoria\, se anima a explorar el contacto inicial y genuino con su público\, solo en el escenario\, con sus recursos que son música\, sus malabares\, sus pantomimas y los valores\, que lo apuntalaron cuando empezó siendo un artista callejero. \nUn Show unipersonal con mucha emoción\, mucha diversión e infancias compartidas… la tuya y la de tus hijos. \nAsí sigue girando Piñón… siempre sobre el escenario\, solo con sus payasadas\, solo con su música\, solo… con vos! \n Videos: \nhttps://youtu.be/yh8qjeKEgUQ \nhttps://youtu.be/pZTAaGQUI7w \nhttps://youtu.be/Yct3qrUnD7Y \nhttps://youtu.be/K5bBoDTbc4c \nhttps://youtu.be/knjHSQ_FA18 \nhttps://youtu.be/om7WbtcYji0 \nhttps://youtu.be/BU5aTeBEXlI \n  \nRedes: \n Youtube: \nPiñon Fijo \nInstagram: \nhttps://www.instagram.com/pinonfijo/?hl=es-la \nTwitter: \n@pinonfijo1 \nFacebook: \nhttps://www.facebook.com/PinonFijoOficial \n
URL:https://www.fedorco.com/evento/pinon-fijo/
LOCATION:Casino Magic\, Dr. Teodoro Luis Planas 4005\, NEUQUEN\, NEUQUEN\, 8300\, Argentina
CATEGORIES:Comedia,HISTORIAL,Humor,Infantil,teatro
ATTACH;FMTTYPE=image/jpeg:https://www.fedorco.com/wp-content/uploads/2021/08/Piñon-F.-2021-400x400-01.jpg
END:VEVENT
END:VCALENDAR