BEGIN:VCALENDAR
VERSION:2.0
PRODID:-//Fedorco - ECPv4.8.1//NONSGML v1.0//EN
CALSCALE:GREGORIAN
METHOD:PUBLISH
X-WR-CALNAME:Fedorco
X-ORIGINAL-URL:https://www.fedorco.com
X-WR-CALDESC:Eventos para Fedorco
BEGIN:VEVENT
DTSTART;TZID=UTC-3:20251107T210000
DTEND;TZID=UTC-3:20251107T230000
DTSTAMP:20260424T215721
CREATED:20250824T005809Z
LAST-MODIFIED:20250824T005809Z
UID:52946-1762549200-1762556400@www.fedorco.com
SUMMARY:power up orchestra
DESCRIPTION:Compartir enPOWER UP ORCHESTRA \nANIME &amp; VIDEOJUEGOS EN CONCIERTO! La experiencia sinfónica REGRESA A\nNEUQUÉN!\nDurante más de 12 AÑOS\, Power Up Orchestra ha deleitado a sus seguidores en Argentina\,\nEspaña\, Paraguay\, Uruguay y Chile con legendarios conciertos audiovisuales que fusionan\nlo mejor de la música de videojuegos\, anime y películas.\nPOWER UP ORCHESTRA presenta un espectáculo sinfónico-rock donde la música de\nDragon Ball\, Dragon Ball Z\, GT\, Super\, videojuegos y películas cobra vida con una fuerza\ndescomunal.\n✨ UN SEGMENTO HOMENAJE A AKIRA TORIYAMA\, con la música elegida por sus fans.\nORQUESTA PODEROSA + BIG BAND + BASE ROCKERA\nVoces en japonés y castellano\nUn concierto audiovisual que supera los 9000 niveles de poder\nLos clásicos de siempre y las últimas novedades convergen en una noche explosiva!\nDesde Dragon Ball\, Evangelion y Digimon\, hasta Kimetsu no Yaiba\, Attack on Titan\, One\nPiece y My Hero Academia\, Final Fantasy\, Undertale\, Persona\, Super Mario y muchos más\nde las franquicias MÁS EXITOSAS de todos los tiempos. \n¿Cuándo? Viernes 7 de Noviembre\nApertura: 20.30hs\nShow: 21hs\nDónde:  : Casino Magic Neuquén (Dr. Teodoro Luis Planas 4005\, Q8300 Neuquén)\nCOMPRA HOY TUS ENTRADAS!  Solo en &quot;Entrada Uno&quot; \nVIDEOS EN VIVO EN EL LUNA PARK STADIUM:\nSAIYAN SAGA MEDLEY (DRAGON BALL):\n\nuVqlsGe&amp;index=2&amp;ab_channel=PowerUpOrchestra\nCAMBIAR EL FUTURO (DRAGON BALL): https://youtu.be/RRjyEqLg3p0?feature=shared\nWE ARE (ONE PIECE): https://youtu.be/bnVYtMF-SZg\nSUPER MARIO: https://www.youtube.com/watch?v=ewawU6sdDlc\nBLUE BIRD (NARUTO: https://www.youtube.com/watch?v=DSUKNcQb2iQ\nSPOTIFY:\nDRAGON BALL MEDLEY:\n\nRedes sociales.\nhttps://www.facebook.com/poweruporchestra\nhttps://www.instagram.com/poweruporchestra\nhttps://www.youtube.com/@poweruporchestra \n
URL:https://www.fedorco.com/evento/power-up-orchestra-2/
LOCATION:Casino Magic\, Dr. Teodoro Luis Planas 4005\, NEUQUEN\, NEUQUEN\, 8300\, Argentina
CATEGORIES:HISTORIAL,Música en vivo,Rock,teatro
ATTACH;FMTTYPE=image/jpeg:https://www.fedorco.com/wp-content/uploads/2025/08/power-up-400x400.jpg
END:VEVENT
END:VCALENDAR