BEGIN:VCALENDAR
VERSION:2.0
PRODID:-//Fedorco - ECPv4.8.1//NONSGML v1.0//EN
CALSCALE:GREGORIAN
METHOD:PUBLISH
X-WR-CALNAME:Fedorco
X-ORIGINAL-URL:https://www.fedorco.com
X-WR-CALDESC:Eventos para Fedorco
BEGIN:VEVENT
DTSTART;TZID=UTC-3:20260220T213000
DTEND;TZID=UTC-3:20260220T233000
DTSTAMP:20260424T215558
CREATED:20251202T170817Z
LAST-MODIFIED:20260126T173035Z
UID:54518-1771623000-1771630200@www.fedorco.com
SUMMARY:raly barrionuevo
DESCRIPTION:Compartir enRaly es un artista excepcional de estos tiempos. Su transigencia lo llevó a transitar diversos senderos\, compartiendo experiencias y la música con artistas de todos los géneros y latitudes;\nbasando su camino en la autogestión\, gozando de la independencia artística y en la búsqueda permanente de nuevos rumbos que aumenten el bagaje de donde luego surgen las canciones.\nLa música que escucha en su casa y las obras de sus quince discos son parte de los conciertos únicos y entrañables que el trovador brinda\, concretando así sus\nanhelos e ilusión: compartir amorosamente la música.\nA solas y sin libreto\, pero con los lápices indicados para escribir o dibujar lo que a Raly le inspira cada momento “Comencé hace muchos años siendo un muchacho con una guitarra y un\npuñadito de canciones; y es lo que sigo haciendo de alguna manera u otra.\nEsta etapa que ha comenzado ahora\, de cantar solo\, es muy importante para mí. Me he estado preparando muchos años para disfrutar de otra manera la música…\nArmo listas de canciones y hago otras. Dejo que suceda\, cada concierto serán las canciones que vayan surgiendo.» \n
URL:https://www.fedorco.com/evento/raly-barrionuevo-2/
LOCATION:Casino Magic\, Dr. Teodoro Luis Planas 4005\, NEUQUEN\, NEUQUEN\, 8300\, Argentina
CATEGORIES:HISTORIAL,Música en vivo,Rock,teatro
ATTACH;FMTTYPE=image/jpeg:https://www.fedorco.com/wp-content/uploads/2025/12/Raly-Barrionuevo-insta-2-400x400.jpg
END:VEVENT
END:VCALENDAR