BEGIN:VCALENDAR
VERSION:2.0
PRODID:-//Fedorco - ECPv4.8.1//NONSGML v1.0//EN
CALSCALE:GREGORIAN
METHOD:PUBLISH
X-WR-CALNAME:Fedorco
X-ORIGINAL-URL:https://www.fedorco.com
X-WR-CALDESC:Eventos para Fedorco
BEGIN:VEVENT
DTSTART;TZID=UTC-3:20220327T210000
DTEND;TZID=UTC-3:20220327T223000
DTSTAMP:20260421T090753
CREATED:20211201T153608Z
LAST-MODIFIED:20220328T175156Z
UID:17185-1648414800-1648420200@www.fedorco.com
SUMMARY:Sin robar a nadie
DESCRIPTION:Compartir enSIN ROBAR A NADIE Stand Up Comedy\nde Jóse Rafael Guzmán. \nPartiendo de su experiencia en la cárcel\, se habla divinamente y con enfoque documental de temas que van desde la infidelidad\, pedofilia y rupturas amorosas; Hasta violaciones\, espiritualidad y Dios. \nTodo esto bajo la visión particular de un ser humano\, Jóse. \nEl grueso de este Stan Up fue escrito desde la cárcel\, siendo Jóse un comediante prisionero\, con una hora de sol a la SEMANA. \nCon SIN ROBAR A NADIE Jóse viene a decir la verdad de la manera más cómica posible. \nNOTA: Con este Stand Up se van a pagar los abogados. \nEsta Sinopsis la escribió Jóse y Jóse soy yo. \n
URL:https://www.fedorco.com/evento/sin-robar-a-nadie/
LOCATION:Casino Magic\, Dr. Teodoro Luis Planas 4005\, NEUQUEN\, NEUQUEN\, 8300\, Argentina
CATEGORIES:Comedia,HISTORIAL,Humor,Stand up,teatro
ATTACH;FMTTYPE=image/jpeg:https://www.fedorco.com/wp-content/uploads/2021/11/JRG-400x400.jpg
END:VEVENT
END:VCALENDAR