BEGIN:VCALENDAR
VERSION:2.0
PRODID:-//Fedorco - ECPv4.8.1//NONSGML v1.0//EN
CALSCALE:GREGORIAN
METHOD:PUBLISH
X-WR-CALNAME:Fedorco
X-ORIGINAL-URL:https://www.fedorco.com
X-WR-CALDESC:Eventos para Fedorco
BEGIN:VEVENT
DTSTART;TZID=UTC-3:20240907T210000
DTEND;TZID=UTC-3:20240907T230000
DTSTAMP:20260424T140132
CREATED:20240624T153655Z
LAST-MODIFIED:20240710T165842Z
UID:44726-1725742800-1725750000@www.fedorco.com
SUMMARY:ave fenix
DESCRIPTION:AVE FÉNIX CUARTETO DE CUERDAS \nAVE FÉNIX\, es el cuarteto de cuerdas argentino de nivel internacional que\nrompe con todos los estereotipos en la ejecución de los tradicionales\ninstrumentos de cuerdas.\nBajo la dirección de Manuel Wirzt y los arreglos de Pablo Raffo\, AVE FENIX\nCuarteto de Cuerdas se conforma a comienzos de 2022. El crecimiento fue\ninmediato.\nSus contenidos musicales calaron rápidamente y fueron muy bien aceptados\npor el público. Rápidamente sus shows se colmaron de espectadores y\ncomenzaron las giras nacionales e internacionales.\nAVE FÉNIX conforman una agrupación increíblemente sólida y con tremendo\npotencial artístico.\nAVE FÉNIX se aventura a interpretar diferentes géneros musicales\, tanto pop\ncomo rock\, clásicos\, electrónica y música de cine con sus clásicos instrumentos\nde cuerdas. \n1er Violín: Valter Izzo\n2do Violín: Javier Kase\nViola: Pablo Raffo\nCello: Nicolás Muñoz \nArreglos: Pablo Raffo\nProductor Ejecutivo: Ary Hovassapian\nProducción General: Diego Djeredjian \n
URL:https://www.fedorco.com/evento/ave-fenix/
LOCATION:Casino Magic\, Dr. Teodoro Luis Planas 4005\, NEUQUEN\, NEUQUEN\, 8300\, Argentina
CATEGORIES:HISTORIAL,Música en vivo,teatro
ATTACH;FMTTYPE=image/jpeg:https://www.fedorco.com/wp-content/uploads/2024/06/ave-fenix-insta-400x400-1.jpg
END:VEVENT
END:VCALENDAR