BEGIN:VCALENDAR
VERSION:2.0
PRODID:-//Fedorco - ECPv4.8.1//NONSGML v1.0//EN
CALSCALE:GREGORIAN
METHOD:PUBLISH
X-WR-CALNAME:Fedorco
X-ORIGINAL-URL:https://www.fedorco.com
X-WR-CALDESC:Eventos para Fedorco
BEGIN:VEVENT
DTSTART;TZID=UTC-3:20240908T160000
DTEND;TZID=UTC-3:20240908T190000
DTSTAMP:20260424T122437
CREATED:20240805T184641Z
LAST-MODIFIED:20240822T142644Z
UID:45519-1725811200-1725822000@www.fedorco.com
SUMMARY:ni locos
DESCRIPTION:NI LOCOS\nUn espectáculo para celebrar la amistad y la música.\nLa dupla de Pablo Echaniz y Enzo Ordeig presentan YO TENGO UN AMIGO\, canciones y\nmucha energía en un show dinámico y muy participativo.\nEl Valor de la amistad y el poder de la imaginación son los pilares de este nuevo espectáculo.\nLa música es el hilo conductor\, pero cada tema es presentado por una breve representación\nque termina en canción.\nEl miedo a la oscuridad\, la alimentación saludable o un viaje de vacaciones pueden ser\ndisparadores de una canción.\nLa alternancia entre las escenas actuadas y las melodías le dan un ritmo ágil a la propuesta y\nuna dinámica que hace sostener la atención de la platea durante toda la función y que\ncelebran todas las ocurrencias de sus protagonistas.\nNi Locos es una obra escrita y dirigida por Sebastián Irigo\, acompañados por dos músicos en\nescena y títeres que aportan un atractivo al show.\nEn esta presentación la invitación a cantar\, saltar\, aplaudir\, gritar y a bailar es continua para\ntoda la familia\, a sumarse y participar.\nNI LOCOS se definen como una banda infantil con una fuerte impronta rioplatense y\nlatinoamericana\, con un repertorio que recorre una amplia variedad de ritmos y sonidos\,\nque van desde el candombe y el carnavalito\, hasta el rap y la cumbia.\nPablo y Enzo hicieron shows en el Kidzapalooza – dentro del Lollapalooza – tiene un gran\nnúmero de reproducciones en Youtube\, en Spotify\, teatro \, giras\, festivales y tres Discos de\nestudio.\nEnzo acompaño a Topa en Disney\, durante seis años interpretando a Natalio en el programa\nJunior Express y Pablo es guitarrista y bandoneonista.\nGuitarra\, batería\, una valija llena de imaginación y muchos instrumentos que les permiten\nllevar de viaje a sus espectadores por momentos inolvidables. \n
URL:https://www.fedorco.com/evento/ni-loco/
LOCATION:Teatro Desafios
CATEGORIES:HISTORIAL,Humor,Infantil,Música en vivo
ATTACH;FMTTYPE=image/jpeg:https://www.fedorco.com/wp-content/uploads/2024/08/Nilocos.-insta-400X400.jpg
END:VEVENT
BEGIN:VEVENT
DTSTART;TZID=UTC-3:20240908T200000
DTEND;TZID=UTC-3:20240908T213000
DTSTAMP:20260424T122437
CREATED:20240513T234902Z
LAST-MODIFIED:20240903T192846Z
UID:43952-1725825600-1725831000@www.fedorco.com
SUMMARY:SOY RADA
DESCRIPTION:ÉXITO TOTAL NUEVA FUNCIÓN 22HS \nSoy Rada vuelve a girar por la Argentina con TARÁN su nuevo show unipersonal \n  \nEL 8 DE SEPTIEMBRE EN EL TEATRO ESPAÑOL EN NEUQUÉN \nEntradas a la venta en entradauno.com \n  \n  \nCada espectáculo nuevo de Agustin “Soy Rada” Aristarán es un hito imperdible en su prolífica carrera. El 8 de septiembre se presentará en Teatro Español en Neuquén. \n  \nEntradas a la venta en entradauno.com  \n  \nSu último show REVUELVO fue galardonado con el premio Estrella de Mar a mejor espectáculo de humor de la temporada en Mar del Plata\, y coronó el año (tras un recorrido de gira nacional\, un Luna Park agotado y dos giras internacionales) ganando el premio ACE 2023\, en la misma categoría. \n  \nTambién Agustín ganó el premio HUGO al mejor protagónico masculino 2023 por su rol en Matilda (obra que tuvo + 170 mil espectadores en temporada de invierno y verano). \n  \nEn esta oportunidad\, nos deleita con su nuevo espectáculo TARÁN\, que recorrerá 10 provincias y más de 18 ciudades de nuestro país. \n  \n  \nAgustín vuelve a su amor original: la magia. Tras un impasse elegido y necesario (luego de 25 años de carrera profesional como mago) se reencuentra con su amor de juventud y nos presenta este espectáculo de MAGIA y COMEDIA\, exquisito\, íntimo y tan alucinante como el momento en que la ilusión y la fantasía te hacen sentir y creer en realidades inexplicables y mágicas. \n  \nCon TARÁN\, nos adentramos en un universo nuevo e inédito del artista: rutinas de magia colectivas e intimistas\, humor\, stand up\, y siempre la música como contrapunto justo de este espectáculo al que no le falta -ni le sobra- nada. \n
URL:https://www.fedorco.com/evento/soy-rada/
LOCATION:Teatro Cine Español\, Av. Argentina 235\, NEUQUEN\, NEUQUEN\, 8300\, Argentina
CATEGORIES:HISTORIAL,Música en vivo,Stand up,teatro
ATTACH;FMTTYPE=image/jpeg:https://www.fedorco.com/wp-content/uploads/2024/05/pantalla-400.jpg
END:VEVENT
END:VCALENDAR