BEGIN:VCALENDAR
VERSION:2.0
PRODID:-//Fedorco - ECPv4.8.1//NONSGML v1.0//EN
CALSCALE:GREGORIAN
METHOD:PUBLISH
X-WR-CALNAME:Fedorco
X-ORIGINAL-URL:https://www.fedorco.com
X-WR-CALDESC:Eventos para Fedorco
BEGIN:VEVENT
DTSTART;TZID=UTC-3:20241025T210000
DTEND;TZID=UTC-3:20241025T230000
DTSTAMP:20260421T064151
CREATED:20240827T050355Z
LAST-MODIFIED:20240903T134253Z
UID:46030-1729890000-1729897200@www.fedorco.com
SUMMARY:soltero 2.0
DESCRIPTION:JUAMPI GONZÁLEZ\, el comediante más divertido\npresenta su NUEVO SHOW\n“SOLTERO 2.0”\n________________________________________ \n¡El espectáculo más exitoso de humor de los últimos años\, tiene su versión 2.0!\nEn este nuevo show Juampi despliega toda su espontaneidad\, creatividad\, carisma\, rapidez\, humor picante…y por supuesto\,\nsu singular manera de ver la realidad del SOLTERO. \nPara hacer este recorrido de las maravillas y expectativas que existen\nen el mundo de la soltería…o del vértigo de ser soltero\,\nlo acompañarán sus personajes más picantes y divertidos. \n
URL:https://www.fedorco.com/evento/soltero-2-0/
LOCATION:Casino Magic\, Dr. Teodoro Luis Planas 4005\, NEUQUEN\, NEUQUEN\, 8300\, Argentina
CATEGORIES:HISTORIAL,Humor,Stand up,teatro
ATTACH;FMTTYPE=image/jpeg:https://www.fedorco.com/wp-content/uploads/2024/08/3-400x400.jpg
END:VEVENT
END:VCALENDAR