BEGIN:VCALENDAR
VERSION:2.0
PRODID:-//Fedorco - ECPv4.8.1//NONSGML v1.0//EN
CALSCALE:GREGORIAN
METHOD:PUBLISH
X-WR-CALNAME:Fedorco
X-ORIGINAL-URL:https://www.fedorco.com
X-WR-CALDESC:Eventos para Fedorco
BEGIN:VEVENT
DTSTART;TZID=UTC-3:20241101T210000
DTEND;TZID=UTC-3:20241101T230000
DTSTAMP:20260420T175821
CREATED:20240821T183907Z
LAST-MODIFIED:20241016T223111Z
UID:45843-1730494800-1730502000@www.fedorco.com
SUMMARY:sanar amar gozar
DESCRIPTION:MARIE TESLER\npresenta\nSANAR\, AMAR\, GOZAR \nEl viernes 1 de noviembre de 2024 se presentará en el Casino Magic de Neuquén\nCapital\, MARIELA TESLER\, la reconocida sex y life coach\, creadora de Isabellina\,\nprecursora del Tuppersex en la Argentina\, inaugurando el evento “Sanar\, Amar\,\nGozar&quot;\, el camino hacia el disfrute.\nCon el propósito de vivir en primera persona el significado de la felicidad\, en un\nviaje profundo de autodescubrimiento\, ha decidido ser nómade. Desde hace más\nde 6 años ha recorrido 26 países\, donde además de crecer interiormente\, realiza\nworkshops y entrevista personas de diferentes culturas sobre el amor\, el sexo y\nlas relaciones.\nLlega a Neuquén con un evento único\, en el que compartirá todo lo que ha\ndescubierto y aprendido en los últimos años\, para sanar heridas que no nos\npermiten avanzar en la vida\, quitando prejuicios y creencias limitantes\,\nayudándonos a ser más genuinas. Además\, la ruta hacia el amor propio\, la\nautoestima y la mejora en las relaciones de pareja\, despertando el poder creativo\nque conecta con el placer y la manera para poder disfrutar mucho más la vida.\nUn viaje hacia la sanación\, el amor y el gozo.\nUn “GPS” que te guiará por una ruta de tres pasos esenciales y la promesa de\nsalir del evento totalmente renovada.\nEn el encuentro habrá también sorteos\, premios y un stand donde se podrán\nadquirir productos\, juguetes\, cosmética íntima\, perfumes con pheromonas\,\naccesorios y mucho más… para que puedas armar tu propia cajita del placer.\nMarie es especialista en Sex Coaching\, certificada por la International Coach\nFederation\, Posee dos posgrados: en Sexualidad en Pareja y en Educación\nSexual. Es escritora de dos libros y ha participado en programas N1 de TV y\nRadio\, en Argentina y Miami\, posee además infinitas notas en medios.\nSu fuente más directa de contacto es su IG donde educa desde un lugar muy\nsimple y divertido para poder llegar a todas las personas con el aprendizaje.\nAtiende mujeres\, hombres y parejas\, mediante Mentirías individuales\, grupales\,\ncursos\, y workshops.\nEn SANAR\, AMAR\, GOZAR\, vamos a explorar los tres pasos esenciales para\nrecuperar tu poder y transformar tu vida\, liberar tu mente y disfrutar de tu cuerpo\nSANAR \nTe daré herramientas para que puedas conectar con tu corazón y liberarte de lo\nque no te deja disfrutar\nAMAR\nConocerás los estilos y lenguajes del amor\, para nutrir tu amor propio y mejorar\ntus relaciones.\nGOZAR\nA través de tus cinco sentidos y el poder creativo\, vamos a despertar la Diosa que\nhabita en vos para conectar con el placer. \n
URL:https://www.fedorco.com/evento/sanar-amar-gozar/
LOCATION:Casino Magic\, Dr. Teodoro Luis Planas 4005\, NEUQUEN\, NEUQUEN\, 8300\, Argentina
CATEGORIES:HISTORIAL,Seminario
ATTACH;FMTTYPE=image/jpeg:https://www.fedorco.com/wp-content/uploads/2024/08/Tesler-insta-400x400.jpg
END:VEVENT
END:VCALENDAR